BEGIN:VCALENDAR
VERSION:2.0
PRODID:spatie/icalendar-generator
DESCRIPTION:Events from CMC
X-WR-CALDESC:Events from CMC
REFRESH-INTERVAL;VALUE=DURATION:PT1440M
X-PUBLISHED-TTL:PT1440M
BEGIN:VTIMEZONE
TZID:Europe/London
BEGIN:STANDARD
DTSTART:20251026T020000Z
TZOFFSETFROM:+0100
TZOFFSETTO:+0000
END:STANDARD
BEGIN:DAYLIGHT
DTSTART:20260329T010000Z
TZOFFSETFROM:+0000
TZOFFSETTO:+0100
END:DAYLIGHT
BEGIN:STANDARD
DTSTART:20261025T020000Z
TZOFFSETFROM:+0100
TZOFFSETTO:+0000
END:STANDARD
END:VTIMEZONE
BEGIN:VTIMEZONE
TZID:UTC
BEGIN:STANDARD
DTSTART:20250725T085920Z
TZOFFSETFROM:+0000
TZOFFSETTO:+0000
END:STANDARD
END:VTIMEZONE
BEGIN:VEVENT
UID:591-220
DTSTAMP:20260421T085920Z
SUMMARY:Moughton Nab
LOCATION:Moughton Nab
ORGANIZER;CN=Craig Perkins:MAILTO:craig.perkins@saaigoutdoors.com
DTSTART;TZID=Europe/London:20260519T173000
DTEND;TZID=Europe/London:20260519T200000
X-ALT-DESC;FMTTYPE=TEXT/HTML:Moughton Nab is a great little sport crag with
  a variety of grades. The left hand sports sector which is in effect the c
 entral part of the crag is directly above the working quarry and the owner
 s have asked that climbing be avoided on this sector during the working we
 ek (Mon to Fri up to&amp;hellip\;
CATEGORIES:Climbing
URL;VALUE=URI:https://www.cravenmc.co.uk/new-events-calendar/?mc_id=591&amp;#03
 8;vcal=591
METHOD:PUBLISH
END:VEVENT
END:VCALENDAR