BEGIN:VCALENDAR
VERSION:2.0
PRODID:spatie/icalendar-generator
DESCRIPTION:Events from CMC
X-WR-CALDESC:Events from CMC
REFRESH-INTERVAL;VALUE=DURATION:PT1440M
X-PUBLISHED-TTL:PT1440M
BEGIN:VTIMEZONE
TZID:Europe/London
BEGIN:STANDARD
DTSTART:20251026T020000Z
TZOFFSETFROM:+0100
TZOFFSETTO:+0000
END:STANDARD
BEGIN:DAYLIGHT
DTSTART:20260329T010000Z
TZOFFSETFROM:+0000
TZOFFSETTO:+0100
END:DAYLIGHT
END:VTIMEZONE
BEGIN:VTIMEZONE
TZID:UTC
BEGIN:STANDARD
DTSTART:20250725T121304Z
TZOFFSETFROM:+0000
TZOFFSETTO:+0000
END:STANDARD
END:VTIMEZONE
BEGIN:VEVENT
UID:499-205
DTSTAMP:20260421T121304Z
SUMMARY:Cairngorms 2026 (Winter Mountaineering)
LOCATION:Feshiebridge
ORGANIZER;CN=David Canning:MAILTO:cimacapi@gmail.com
DTSTART;TZID=Europe/London;VALUE=DATE:20260208
DTEND;TZID=Europe/London;VALUE=DATE:20260213
X-ALT-DESC;FMTTYPE=TEXT/HTML:This season we are heading for the Caingorms. 
 This rugged and spectacular landscape\, offers a wide variety of winter ex
 periences from tackling the peaks of the second tallest mountain in the UK
 \, Ben Macdui (1\,309 metres)\, Braeriach\, Cairn Gorm\, or Lochnagar\, to
  walking the classic winter trails such as the Lairig Ghru. For 2026 we&amp;he
 llip\;
CATEGORIES:Climbing,  Hut Meet,  Walking
URL;VALUE=URI:https://www.cravenmc.co.uk/new-events-calendar/?mc_id=499&amp;#03
 8;vcal=499
METHOD:PUBLISH
END:VEVENT
END:VCALENDAR