BEGIN:VCALENDAR
VERSION:2.0
PRODID:spatie/icalendar-generator
DESCRIPTION:Events from CMC
X-WR-CALDESC:Events from CMC
REFRESH-INTERVAL;VALUE=DURATION:PT1440M
X-PUBLISHED-TTL:PT1440M
BEGIN:VTIMEZONE
TZID:Europe/London
BEGIN:STANDARD
DTSTART:20251026T020000Z
TZOFFSETFROM:+0100
TZOFFSETTO:+0000
END:STANDARD
BEGIN:DAYLIGHT
DTSTART:20260329T010000Z
TZOFFSETFROM:+0000
TZOFFSETTO:+0100
END:DAYLIGHT
END:VTIMEZONE
BEGIN:VTIMEZONE
TZID:UTC
BEGIN:STANDARD
DTSTART:20250725T125610Z
TZOFFSETFROM:+0000
TZOFFSETTO:+0000
END:STANDARD
END:VTIMEZONE
BEGIN:VEVENT
UID:498-204
DTSTAMP:20260421T125610Z
SUMMARY:Burns Night Weekend
LOCATION:
ORGANIZER;CN=Michael Faulkner:MAILTO:mickthevic@cantab.net
DTSTART;TZID=Europe/London;VALUE=DATE:20260130
DTEND;TZID=Europe/London;VALUE=DATE:20260202
X-ALT-DESC;FMTTYPE=TEXT/HTML:CMC Burns Night Weekend One of the CMC’s fin
 est traditions is our annual Burns Night gathering\, held each year around
  25th January. Expect a cosy evening with a communal feast of haggis (vege
 tarian option available)\, tatties and neeps\, something sweet to finish\,
  and naturally a wee dram to toast the Bard. For 2026\, we’ve reserved&amp;h
 ellip\;
CATEGORIES:Hut Meet,  Climbing,  MTB,  Social,  Walking
URL;VALUE=URI:https://www.cravenmc.co.uk/new-events-calendar/?mc_id=498&amp;#03
 8;vcal=498
METHOD:PUBLISH
END:VEVENT
END:VCALENDAR